BEGIN:VCALENDAR
VERSION:2.0
PRODID:-//wp-events-plugin.com//7.2.3.1//EN
BEGIN:VEVENT
UID:120@stepbysteps.de
DTSTART:20251023T143000Z
DTEND:20251023T154500Z
DTSTAMP:20250902T082212Z
URL:https://stepbysteps.de/events/kinder-yoga-montags-1430-1545-uhr-2025-0
 9-01-2025-09-04-2025-09-08-2025-09-11-2025-09-15-2025-09-18-2025-09-22-202
 5-09-25-2025-09-29-2025-10-02-2025-10-06-2025-10-09-2025-10-13-2025-10-1-2
 0-2025-10-23/
SUMMARY:Kinder-Yoga (Montags 14:30-15:45 Uhr)
DESCRIPTION:Yoga ist eine sehr alte indische Praxis\, die gleichermaßen K
 örper und Geist umfasst. Das können Atemübungen sein\, Bewegungen oder 
 Positionen\, in denen ein Moment verharrt wird oder die wie in einer Chore
 ographie fließend ineinander übergehen können.\n\nUnser Kurs richtet si
 ch an Eltern mit Kinder im Alter zwischen 1 und 3 Jahren . Die Kids werden
  freudbetont\, spielerisch und altersgemäß mit Körperwahrnehmungen\, ei
 nem bunten Wechsel zwischen (an-) spannenden und entspannenden Momenten un
 d Bewegungen vertraut gemacht.
END:VEVENT
END:VCALENDAR